BEGIN:VCALENDAR
VERSION:2.0
PRODID:-//nagatineau - ECPv6.15.20//NONSGML v1.0//EN
CALSCALE:GREGORIAN
METHOD:PUBLISH
X-WR-CALNAME:nagatineau
X-ORIGINAL-URL:https://www.nagatineau.ca
X-WR-CALDESC:Évènements pour nagatineau
REFRESH-INTERVAL;VALUE=DURATION:PT1H
X-Robots-Tag:noindex
X-PUBLISHED-TTL:PT1H
BEGIN:VTIMEZONE
TZID:America/Toronto
BEGIN:DAYLIGHT
TZOFFSETFROM:-0500
TZOFFSETTO:-0400
TZNAME:EDT
DTSTART:20230312T070000
END:DAYLIGHT
BEGIN:STANDARD
TZOFFSETFROM:-0400
TZOFFSETTO:-0500
TZNAME:EST
DTSTART:20231105T060000
END:STANDARD
BEGIN:DAYLIGHT
TZOFFSETFROM:-0500
TZOFFSETTO:-0400
TZNAME:EDT
DTSTART:20240310T070000
END:DAYLIGHT
BEGIN:STANDARD
TZOFFSETFROM:-0400
TZOFFSETTO:-0500
TZNAME:EST
DTSTART:20241103T060000
END:STANDARD
BEGIN:DAYLIGHT
TZOFFSETFROM:-0500
TZOFFSETTO:-0400
TZNAME:EDT
DTSTART:20250309T070000
END:DAYLIGHT
BEGIN:STANDARD
TZOFFSETFROM:-0400
TZOFFSETTO:-0500
TZNAME:EST
DTSTART:20251102T060000
END:STANDARD
END:VTIMEZONE
BEGIN:VEVENT
DTSTART;VALUE=DATE:20241214
DTEND;VALUE=DATE:20241215
DTSTAMP:20260420T182952
CREATED:20241016T221328Z
LAST-MODIFIED:20241017T231758Z
UID:1374-1734134400-1734220799@www.nagatineau.ca
SUMMARY:Spectacle de Noel
DESCRIPTION:Venez vivre un moment exceptionnel ! Nous avons le plaisir de vous convier à notre spectacle de natation artistique le 14 décembre à l’école polyvalente de l’île. \n? Date : 14 décembre\n? Lieu : École polyvalente de l’île \nRejoignez-nous pour un spectacle plein de créativité et de magie aquatique.
URL:https://www.nagatineau.ca/calendrier/spectacle-du-temps-des-fetes-2024/
LOCATION:Polyvalente de l’île\, 255 Rue Saint-Rédempteur\, gatineau\, Québec\, J8X2T4\, Canada
CATEGORIES:Spectacle
END:VEVENT
END:VCALENDAR